BEGIN:VCALENDAR
VERSION:2.0
PRODID:-//wp-events-plugin.com//6.5//EN
TZID:America/Toronto
X-WR-TIMEZONE:America/Toronto
BEGIN:VEVENT
UID:13-8046@toronto.swea.org
DTSTART;TZID=America/Toronto:20250308T113000
DTEND;TZID=America/Toronto:20250308T140000
DTSTAMP:20250227T181722Z
URL:https://toronto.swea.org/events/fira-internationella-kvinnodagen-med-e
 n-swea-brunch/
SUMMARY:Fira Internationella Kvinnodagen med en SWEA-brunch!
DESCRIPTION:Med en mimosa eller två och härlig utsikt över Toronto kicka
 r vi igång lördagen med en brunch!\nAnmälan senast 5e mars till toront
 o.program@swea.org
END:VEVENT
BEGIN:VEVENT
UID:13-8048@toronto.swea.org
DTSTART;TZID=America/Toronto:20250310T200000
DTEND;TZID=America/Toronto:20250310T213000
DTSTAMP:20250227T182241Z
URL:https://toronto.swea.org/events/swea-mame-arsmote/
SUMMARY:SWEA MAME Årsmöte
DESCRIPTION:Var: Virtuellt möte via Google Meet\nInbjudan har skickats se
 parat.\nAlla SWEA-medlemmar inbjuds att delta på det Regionala årsmötet
  via Google Meet.\nVÄLKOMMEN!\nAriane Heffernan
ATTACH;FMTTYPE=image/jpeg:https://toronto.swea.org/wp-content/uploads/site
 s/13/2025/02/MameArsmote.png
END:VEVENT
BEGIN:VEVENT
UID:13-8047@toronto.swea.org
DTSTART;TZID=America/Toronto:20250326T194500
DTEND;TZID=America/Toronto:20250326T214500
DTSTAMP:20250227T181904Z
URL:https://toronto.swea.org/events/smaklokarna-norr/
SUMMARY:Smaklökarna Norr
DESCRIPTION:Hej flickor!\nSmaklökarna Norr\, bjuder till första träffen!
 \nVi träffas i King City för att käka middag.\nOm du vill komma\, anmä
 l dig till mig senast torsdagen den 20 mars.\nmetaianferguson@gmail.com\nK
 ram Margaretha
END:VEVENT
BEGIN:VEVENT
UID:13-8049@toronto.swea.org
DTSTART;TZID=America/Toronto:20250327T180000
DTEND;TZID=America/Toronto:20250327T200000
DTSTAMP:20250227T182359Z
URL:https://toronto.swea.org/events/swea-professional-2/
SUMMARY:SWEA Professional 
DESCRIPTION:Vi diskuterar med och motgångar på jobbet. Delar med oss av e
 rfarenheter\, lyssnar och ger råd.\nTema\, vad är min nästa professione
 lla milstolpe?\nKontakt och ev. anmälan till Rebecka via Toronto.profess
 ional@swea.org\nRebecka Hornburg
END:VEVENT
BEGIN:VEVENT
UID:13-8276@toronto.swea.org
DTSTART;TZID=America/Toronto:20250410T183000
DTEND;TZID=America/Toronto:20250410T200000
DTSTAMP:20250329T023956Z
URL:https://toronto.swea.org/events/middag-med-smaklokarna-2/
SUMMARY:Middag med Smaklökarna
DESCRIPTION:Smaklökarna käkar middag torsdag 10 april kl. 18.30!\nAnmäla
 n senast den 6 april: smaklokarna@gmail.com\nVid no-show eller avbokning s
 enare än 24 timmar innan debiteras 20 $ per person.
END:VEVENT
BEGIN:VEVENT
UID:13-8277@toronto.swea.org
DTSTART;TZID=America/Toronto:20250414T193000
DTEND;TZID=America/Toronto:20250414T203000
DTSTAMP:20250329T024116Z
URL:https://toronto.swea.org/events/guidad-meditation-healing-cirkel-med-y
 lva-kristina/
SUMMARY:Guidad Meditation &amp\; Healing Cirkel med Ylva-Kristina
DESCRIPTION:Var: Zoom\nMed allt som pågår i världen\, längtar du kanske
  efter lite stillhet.\nKänner du ett behov av att komma ikapp med dig sj
 älv och att fylla på dina inre resurser?  Även några ögonblick med d
 e högsta delarna av dig själv kan förnya din energi\, fördjupa din kon
 takt med dig själv och öka din inre klarhet.\nDen här guidade meditatio
 nen &amp\; healing cirkeln är en egenvårds stund som är ihopsatt för a
 tt vara helande\, närande och återställande.\nAnmäl dig direkt till Yl
 va-Kristina\, senast den 13 april
END:VEVENT
BEGIN:VEVENT
UID:13-8278@toronto.swea.org
DTSTART;TZID=America/Toronto:20250415T130000
DTEND;TZID=America/Toronto:20250415T140000
DTSTAMP:20250329T024219Z
URL:https://toronto.swea.org/events/fika-med-swea-care/
SUMMARY:Fika med SWEA Care 
DESCRIPTION:Kom och fika på Zoom tillsammans med SWEA Care!\nFör att delt
 a\, vänligen skicka din anmälan till  toronto.care@swea.org
END:VEVENT
BEGIN:VEVENT
UID:13-8279@toronto.swea.org
DTSTART;TZID=America/Toronto:20250426T100000
DTEND;TZID=America/Toronto:20250426T113000
DTSTAMP:20250329T024331Z
URL:https://toronto.swea.org/events/promenad-i-high-park/
SUMMARY:Promenad i High Park
DESCRIPTION:Med förhoppning om att pricka in körsbärsblomningen tar vi e
 n vårpromenad i High Park.\nVi ses vid North Gates (Bloor &amp\; High Par
 k Ave\, på High Park-sidan). Parkering är troligtvis begränsad. Närmst
 a TTC-station är High Park.\nAnmälan görs senast 24 april till toronto
 .program@swea.org
END:VEVENT
BEGIN:VEVENT
UID:13-8562@toronto.swea.org
DTSTART;TZID=America/Toronto:20250507T180000
DTEND;TZID=America/Toronto:20250507T200000
DTSTAMP:20250505T195620Z
URL:https://toronto.swea.org/events/swea-professional-3/
SUMMARY:SWEA Professional: Konsten att förhandla
DESCRIPTION:Tema: Konsten att förhandla! Historier från jobb och vardag.\
 nAnmälan till Rebecka senast 4e maj: Toronto.professional@swea.org
END:VEVENT
BEGIN:VEVENT
UID:13-8563@toronto.swea.org
DTSTART;TZID=America/Toronto:20250508T180000
DTEND;TZID=America/Toronto:20250508T200000
DTSTAMP:20250505T195555Z
URL:https://toronto.swea.org/events/swea-ottawa-theology-on-tap/
SUMMARY:SWEA Ottawa: Theology on Tap
DESCRIPTION:Den 8:e maj är det återigen dags för Theology on Tap med Mar
 ia Scharffenberg tillsammans med Svenska Klubben.\nVid intresse\, hör av 
 dig till Mia:\ntoronto.ottawa@swea.org\nVarmt välkommen!
END:VEVENT
BEGIN:VEVENT
UID:13-8564@toronto.swea.org
DTSTART;TZID=America/Toronto:20250509T180000
DTEND;TZID=America/Toronto:20250509T210000
DTSTAMP:20250505T195739Z
URL:https://toronto.swea.org/events/swea-ottawa-knytkalas/
SUMMARY:SWEA Ottawa: Knytkalas
DESCRIPTION:När: TBC – preliminärt 9 eller 10 maj\n\nVar: Hemma hos Jon
 na\n\nVåren är här – och det vill vi såklart fira tillsammans! Jonna
  bjuder in till ett härligt knytkalas där vi samlas för god mat\, skrat
 t och vårkänslor.\n\nHör gärna av dig till Mia på: toronto.ottawa@swe
 a.org\n\nVarma hälsningar\, Mia och Jonna
END:VEVENT
BEGIN:VEVENT
UID:13-8565@toronto.swea.org
DTSTART;TZID=America/Toronto:20250517T140000
DTEND;TZID=America/Toronto:20250517T170000
DTSTAMP:20250505T195925Z
URL:https://toronto.swea.org/events/swea-ottawa-mellofest/
SUMMARY:SWEA Ottawa: Mellofest
DESCRIPTION:Kom på Mellofest hos Mia och heja fram KAJ!\nHör av dig om du
  vill komma: toronto.ottawa@swea.org
END:VEVENT
BEGIN:VEVENT
UID:13-8566@toronto.swea.org
DTSTART;TZID=America/Toronto:20250517T140000
DTEND;TZID=America/Toronto:20250517T170000
DTSTAMP:20250505T200058Z
URL:https://toronto.swea.org/events/eurovision-watch-party/
SUMMARY:Eurovision Watch Party
DESCRIPTION:OBS! Detta är ej ett SWEA-evenemang\nVill du heja fram KAJ (el
 ler någon annan) i Eurovision tillsammans med andra Eurovision-älskare f
 rån Toronto? Kom till ett gratis watch-party på Pegasus on Church!\nVill
  du gå tillsammans med andra SWEOR? Skriv till toronto.program@swea.org
  så kopplar vi ihop er.\nMer information om evenemanget hittar du på Fa
 cebook om du söker efter Eurovision 2025 - Toronto Watch Party
END:VEVENT
BEGIN:VEVENT
UID:13-8567@toronto.swea.org
DTSTART;TZID=America/Toronto:20250523T180000
DTEND;TZID=America/Toronto:20250523T200000
DTSTAMP:20250505T200219Z
URL:https://toronto.swea.org/events/after-work-med-swea/
SUMMARY:After Work med SWEA
DESCRIPTION:Fira in helgen med craft beer\, en cocktail eller en bit mat me
 d SWEA!\nAnmälan görs senast den 21 maj till toronto.program@swea.org
END:VEVENT
BEGIN:VEVENT
UID:13-8674@toronto.swea.org
DTSTART;TZID=America/Toronto:20250601T113000
DTEND;TZID=America/Toronto:20250601T130000
DTSTAMP:20250603T163604Z
URL:https://toronto.swea.org/events/swea-promenad-i-rosedale/
SUMMARY:SWEA Promenad i Rosedale
DESCRIPTION:Välkomna på promenad!\nVi kommer att se det historiska områd
 et Rosedale\, lära oss roliga fakta om några av byggnaderna och njuta av
  slingrande gator som är så sällsynta i Toronto.\nGreen P Parking Carpa
 rk 195 är närmaste parkering.\nAnmälan till Veronica senast 30:e maj: 
 toronto.program@swea.org
END:VEVENT
BEGIN:VEVENT
UID:13-8675@toronto.swea.org
DTSTART;TZID=America/Toronto:20250606T190000
DTEND;TZID=America/Toronto:20250606T210000
DTSTAMP:20250603T163736Z
URL:https://toronto.swea.org/events/swea-ottawa-firar-svenska-flaggans-dag
 /
SUMMARY:SWEA Ottawa Firar Svenska Flaggans Dag
DESCRIPTION:Den 6:e juni firar vi Svenska Flaggans dag med bubbelkväll hos
  Mia\, lite enkla snacks - 19:00-21:00 eller tills vi tröttnar!\nHör av 
 er till Mia: toronto.ottawa@swea.org
END:VEVENT
BEGIN:VEVENT
UID:13-8676@toronto.swea.org
DTSTART;TZID=America/Toronto:20250607T120000
DTEND;TZID=America/Toronto:20250607T140000
DTSTAMP:20250603T163840Z
URL:https://toronto.swea.org/events/valkomstlunch-for-nya-medlemmar/
SUMMARY:Välkomstlunch för nya medlemmar
DESCRIPTION:Inbjudan och mer information har skickats ut per mejl till nya 
 medlemmar för 2025
END:VEVENT
BEGIN:VEVENT
UID:13-8677@toronto.swea.org
DTSTART;TZID=America/Toronto:20250613T140000
DTEND;TZID=America/Toronto:20250613T200000
DTSTAMP:20250603T164131Z
URL:https://toronto.swea.org/events/swea-ottawa-kransbindning-firande-pa-n
 ordiska-ambassaderna/
SUMMARY:SWEA Ottawa: Kransbindning &amp\; firande på Nordiska ambassaderna
DESCRIPTION:Ottawa-Sweorna binder kransar och firar midsommar på nordiska 
 ambassadernas midsommarfirande den 13:e juni med start kl 14:00 till ungef
 är 20:00. Än så länge har vi 5 personer som hjälper till men en eller
  två till att hjälpa till under firandet (17:00-20:00) vore fantastiskt.
  För dem som inte varit med förut är detta ett fantastiskt roligt event
 !\nHör av er till Mia: toronto.ottawa@swea.org
END:VEVENT
BEGIN:VEVENT
UID:13-8678@toronto.swea.org
DTSTART;TZID=America/Toronto:20250614T180000
DTEND;TZID=America/Toronto:20250614T200000
DTSTAMP:20250603T164604Z
URL:https://toronto.swea.org/events/vinprovning-oh-canada/
SUMMARY:Vinprovning - Oh Canada.. 
DESCRIPTION:Var: Toronto - Adress fås vid anmälan\nPris: $50\nKanada\, s
 å mycket mer än bara icewine och maple syrup. Följ med när vår sommel
 ier och SWEA\, Maria Scharffenberg guidar oss genom Kanadas spännande vi
 nvärld. Vi kommer att prova fem olika viner som visar på bredden och dju
 pet av den Kanadensiska vinscenen. Allt från strama röda till bubblande 
 festliga.\nI priset ingår fem utvalda viner samt lättare tilltugg. Anmä
 lan görs senast den 11 juni till toronto.program@swea.org. Betalning gö
 rs enklast via e-transfer till toronto.treasurer@swea.org\nOBS! Begränsa
 t antal platser. Först till kvarn...
END:VEVENT
BEGIN:VEVENT
UID:13-8741@toronto.swea.org
DTSTART;TZID=America/Toronto:20250704T180000
DTEND;TZID=America/Toronto:20250704T210000
DTSTAMP:20250627T151600Z
URL:https://toronto.swea.org/events/aw-med-lingonbarries/
SUMMARY:AW med Lingonbarries
DESCRIPTION:Lingonbarries kör AW den 4/7 kl 18:00! Promenad först om väd
 ret tillåter och sen dricker vi något tillsammans.\nAnmälan senast den 
 1/7 till: toronto.barrie@swea.org\nPlats meddelas till anmälda.\nHoppas 
 vi ses!
END:VEVENT
BEGIN:VEVENT
UID:13-8742@toronto.swea.org
DTSTART;TZID=America/Toronto:20250710T120000
DTEND;TZID=America/Toronto:20250710T143000
DTSTAMP:20250627T153244Z
URL:https://toronto.swea.org/events/lunch-med-smaklokarna/
SUMMARY:Lunch med Smaklökarna
DESCRIPTION:Välkommen på lunch med Smaklökarna i Midtown!\nAnmälan gör
 s till: smaklokarna@gmail.com\nHoppas vi ses!
END:VEVENT
BEGIN:VEVENT
UID:13-8744@toronto.swea.org
DTSTART;TZID=America/Toronto:20250808T183000
DTEND;TZID=America/Toronto:20250808T210000
DTSTAMP:20250627T153639Z
URL:https://toronto.swea.org/events/after-work-med-swea-2/
SUMMARY:After Work med SWEA
DESCRIPTION:Häng med SWEA Toronto på sommar-AW på ett lokalt bryggeri (e
 xakt vart bokas när vi vet hur många vi blir). Vår före detta programa
 nsvarig Emily ska flytta från Ontario - Här får du chansen att träffa 
 och lyckönska henne innan flyttlasset går.\nVi kommer sakna dig Emily!\n
 Anmälan görs senast 23 juli till Veronica på: toronto.program@swea.org
END:VEVENT
BEGIN:VEVENT
UID:13-8783@toronto.swea.org
DTSTART;TZID=America/Toronto:20250815T180000
DTEND;TZID=America/Toronto:20250815T210000
DTSTAMP:20250801T190623Z
URL:https://toronto.swea.org/events/mexikansk-mat-med-lingonbarries-norra-
 smaklokarna/
SUMMARY:Mexikansk mat med Lingonbarries &amp\; Norra Smaklökarna
DESCRIPTION:Den 15 augusti kl 18.00 träffas vi i Barrie för att käka god
  mexikansk mat.\nEventet arrangeras av Lingonbarries/Norra Smaklökarna ge
 mensamt.\nOm du vill följa med så anmäl dig senast den 12 augusti genom
  att mejla toronto.barrie@swea.org
END:VEVENT
BEGIN:VEVENT
UID:13-8784@toronto.swea.org
DTSTART;TZID=America/Toronto:20250816T090000
DTEND;TZID=America/Toronto:20250816T180000
DTSTAMP:20250801T190748Z
URL:https://toronto.swea.org/events/utflykt-till-niagara-on-the-lake/
SUMMARY:Utflykt till Niagara-on-the-lake
DESCRIPTION:Pris: Ca 100 CAD + GO och lunch\nEfter gemensam resa med GO plo
 ckar vår chaufför upp oss i St Catherine för vidare resa mot vackra NOT
 L. Här provar vi vin på två olika vingårdar\, ser vad som sker bakom v
 inrankorna och lär oss om Niagara som vinregion. Vi njuter av lunch på e
 n tredje vingård och tar en promenad i ljuvliga Old Town.\nDetaljer skick
 as till er som anmäler er. Begränsat antal så först till kvarn!\nAnmä
 lan till: toronto@swea.org senast Fredag 1 Augusti.
ATTACH;FMTTYPE=image/jpeg:https://toronto.swea.org/wp-content/uploads/site
 s/13/2025/08/Niagara-Augusti.png
END:VEVENT
BEGIN:VEVENT
UID:13-8983@toronto.swea.org
DTSTART;TZID=America/Toronto:20250905T180000
DTEND;TZID=America/Toronto:20250905T210000
DTSTAMP:20250903T023732Z
URL:https://toronto.swea.org/events/aw-med-lingonbarries-2/
SUMMARY:AW med Lingonbarries
DESCRIPTION:Lingonbarries träffas den 5 september i Barrie för sommarens 
 sista AW!\n\nOm du vill hänga med hör av dig till toronto.barrie@swea.or
 g i god tid så vi kan boka bord.
END:VEVENT
BEGIN:VEVENT
UID:13-8785@toronto.swea.org
DTSTART;TZID=America/Toronto:20250913T180000
DTEND;TZID=America/Toronto:20250913T220000
DTSTAMP:20250903T023421Z
URL:https://toronto.swea.org/events/bubbelprovning/
SUMMARY:Bubbelprovning
DESCRIPTION:Den populära bubbelprovningen med sommelier och SWEA Maria Sc
 harffenberg gör repris! Adressen utges vid anmälan.\nKostnad: $50.\nAnm
 älan och betalning görs senast 10 september: Anmälan till toronto.prog
 ram@swea.org\nBetalning via e-transfer till toronto.treasurer@swea.org\nO
 BS - Begränsat antal platser! Först till kvarn.
END:VEVENT
BEGIN:VEVENT
UID:13-8984@toronto.swea.org
DTSTART;TZID=America/Toronto:20250920T130000
DTEND;TZID=America/Toronto:20250920T160000
DTSTAMP:20250903T024017Z
URL:https://toronto.swea.org/events/afternoon-high-tea-med-norra-smaklokar
 na/
SUMMARY:Afternoon High Tea med Norra Smaklökarna
DESCRIPTION:När: Lördagen den 20/9\, kl 13.00\nVar: Lady Sadie Tea House 
 i Alliston\nNorra Smaklökarna organiserar Afternoon High Tea i Alliston l
 ördagen den 20.9 klockan 13h.\nVi har preliminärt bokat ett bord för 12
  personer. Kostnad är ca $40 per person.\nAnmäl dig senast den 13.9!
END:VEVENT
BEGIN:VEVENT
UID:13-8985@toronto.swea.org
DTSTART;TZID=America/Toronto:20250927T193000
DTEND;TZID=America/Toronto:20250927T220000
DTSTAMP:20250926T003015Z
URL:https://toronto.swea.org/events/swea-torontos-arliga-hostfest/
SUMMARY:SWEA Torontos årliga höstfest
DESCRIPTION:När: Lördag\, 27 September. Mingel från 17:30.\nVar: Downtow
 n Toronto\nVarmt välkomna till årets höstfest! Även om sommaren knappt
  är över kan vi inte vänta längre - Årets höstfest blir redan i Sept
 ember. Inbjudan med mer detaljer skickas ut inom kort via Punchbowl. Håll
  utkik i mejlen!\nFestgruppen kan lova redan nu att det kommer bli en här
 lig kväll. Vi umgås\, äter god mat (någon typ av skaldjur samt tillbeh
 ör) och har trevligt tillsammans. Vill du dela med dig av en festlek\, ko
 ntakta gärna toronto.fest@swea.org\nHoppas vi ses!
END:VEVENT
BEGIN:VEVENT
UID:13-9154@toronto.swea.org
DTSTART;TZID=America/Toronto:20251005T160000
DTEND;TZID=America/Toronto:20251005T180000
DTSTAMP:20250926T003501Z
URL:https://toronto.swea.org/events/jazzmassa-i-svenska-kyrkan/
SUMMARY:Jazzmässa i Svenska kyrkan
DESCRIPTION:Välkommen till höstens Jazzmässa i Svenska kyrkan!\n\nAnmäl
  dig till toronto@svenskakyrkan.se senast tisdag den 30 september. OBS: an
 mälan är bindade!\n\nPris: $25\, dryck tillkommer\n\n&nbsp\;
END:VEVENT
BEGIN:VEVENT
UID:13-8743@toronto.swea.org
DTSTART;TZID=America/Toronto:20251011T113000
DTEND;TZID=America/Toronto:20251011T130000
DTSTAMP:20250926T003701Z
URL:https://toronto.swea.org/events/promenad-i-wychwood/
SUMMARY:Stadspromenad i Wychwood 
DESCRIPTION:Häng med på en stadsvandring ledd av Jane genom byn Wychwood\
 , där vi bland annat kommer att gå förbi historiska Casa Loma. Känner 
 vi oss kaffesugna kan vi stanna till vid ett kafé för en fika.\nAnmälan
  görs senast 9 oktober till Toronto.program@swea.org
END:VEVENT
BEGIN:VEVENT
UID:13-8786@toronto.swea.org
DTSTART;TZID=America/Toronto:20251014T193000
DTEND;TZID=America/Toronto:20251014T213000
DTSTAMP:20250801T191105Z
URL:https://toronto.swea.org/events/romeo-och-julia-med-swea/
SUMMARY:Romeo och Julia med SWEA
DESCRIPTION:Var: Four Seasons Centre for the Performing Arts\, Toronto\nNå
 gra Sweor planerar att se operan Romeo and Juliet av Gounod den 14e oktobe
 r. Vill du hänga med\, anmäl dig senast den 31 juli för att säkerstäl
 la sittplatser tillsammans. Det går självklart bra att boka biljett sena
 re på egen hand\, men då garanteras det inte att du kan sitta tillsamman
 s med andra Sweor.\nAnmälan görs senast 31 juli till Veronica på toron
 to.program@swea.org
END:VEVENT
BEGIN:VEVENT
UID:13-9155@toronto.swea.org
DTSTART;TZID=America/Toronto:20251018T150000
DTEND;TZID=America/Toronto:20251018T170000
DTSTAMP:20250926T004012Z
URL:https://toronto.swea.org/events/korkonsert/
SUMMARY:Körkonsert
DESCRIPTION:Lördagen den 18 oktober blir det klassisk konsert med Toronto 
 Swedish Singers och två andra körer. Stycket vi framför är Deutsche Me
 sse av Franz Schubert.
ATTACH;FMTTYPE=image/jpeg:https://toronto.swea.org/wp-content/uploads/site
 s/13/2025/09/Korkonsert.png
END:VEVENT
BEGIN:VEVENT
UID:13-9156@toronto.swea.org
DTSTART;TZID=America/Toronto:20251025T113000
DTEND;TZID=America/Toronto:20251025T133000
DTSTAMP:20250926T004137Z
URL:https://toronto.swea.org/events/hostbrunch/
SUMMARY:Höstbrunch
DESCRIPTION:Dags för ännu en mysig lördagsbrunch i Toronto! Anmälan gö
 rs senast 22a oktober till toronto.program@swea.org
END:VEVENT
BEGIN:VEVENT
UID:13-9429@toronto.swea.org
DTSTART;TZID=America/Toronto:20251030T120000
DTEND;TZID=America/Toronto:20251030T140000
DTSTAMP:20251028T155750Z
URL:https://toronto.swea.org/events/indisk-mat-med-smaklokarna/
SUMMARY:Indisk mat med Smaklökarna
DESCRIPTION:Smaklökarna käkar indiskt i Kensington Market! Antal plaster:
  8\n\nAnmäl dig via epost till smaklokarna@gmail.com. Anmälan är bindan
 de efter 28 oktober.\n\nObs! Restaurangen har en cancellation policy på 2
 0 CAD per person vid avbokning eller ändringar senare än 24 timmar innan
 .
END:VEVENT
BEGIN:VEVENT
UID:13-9430@toronto.swea.org
DTSTART;TZID=America/Toronto:20251101T100000
DTEND;TZID=America/Toronto:20251101T113000
DTSTAMP:20251028T184748Z
URL:https://toronto.swea.org/events/promenad-i-rouge-valley/
SUMMARY:Promenad i Rouge Valley
DESCRIPTION:Ulla leder morgonens promenad i Rouge Valley. Anmälan görs se
 nast 30e oktober till toronto.program@swea.org. Hoppas vi ses!
END:VEVENT
BEGIN:VEVENT
UID:13-9157@toronto.swea.org
DTSTART;TZID=America/Toronto:20251108T180000
DTEND;TZID=America/Toronto:20251108T210000
DTSTAMP:20251028T155340Z
URL:https://toronto.swea.org/events/gloggprovning/
SUMMARY:Glöggprovning
DESCRIPTION:Vi laddar upp inför julkaoset med en exlusiv glöggprovning\, 
 inklusive tillverkning\, hemma hos Maria! Lättare snacks kommer också fi
 nnas.\n\nKostnad: $30/person. Betalning görs via etransfer till toronto.t
 reasurer@swea.org\n\nBegränsat antal platser! Anmälan görs till toronto
 .program@swea.org senast 6e november.
END:VEVENT
BEGIN:VEVENT
UID:13-8765@toronto.swea.org
DTSTART;TZID=America/Toronto:20251122T110000
DTEND;TZID=America/Toronto:20251122T170000
DTSTAMP:20251118T201305Z
URL:https://toronto.swea.org/events/swedish-christmas-fair-day-1/
SUMMARY:Swedish Christmas Fair Day 1
DESCRIPTION:Place: George Brown Waterfront Campus\, 51 Dockside Drive\, Tor
 onto.\n\nWhen: Saturday November 22\, 2025-- The Swedish Christmas Fair i
 s open from 11 AM - 5 PM. The pick-up time for the webshop orders is 1 PM
  - 5 PM.\nSchedule:\n11:00: The Swedish Christmas Fair opens!\n\n12:00: Op
 ening ceremony\n\n12:50: Singalong\n\n13:00: Lucia procession\n\n13:45: Sw
 edish Folkdancers &amp\; Singers performance\n\n14:50: Singalong\n\n15:00:
  Lucia procession\n\n15:45: Swedish Folkdancers &amp\; Singers performance
 \n\n16:45: Traditional song &amp\; dance around the Christmas tree\n\n17:0
 0: The fair closes for the day
ATTACH;FMTTYPE=image/jpeg:https://toronto.swea.org/wp-content/uploads/site
 s/13/2025/07/Julmarknad-Day-1.png
END:VEVENT
BEGIN:VEVENT
UID:13-8766@toronto.swea.org
DTSTART;TZID=America/Toronto:20251123T110000
DTEND;TZID=America/Toronto:20251123T160000
DTSTAMP:20251118T201222Z
URL:https://toronto.swea.org/events/4634/
SUMMARY:Swedish Christmas Fair Day 2
DESCRIPTION:Place: George Brown Waterfront Campus\, 51 Dockside Drive\, Tor
 onto.\n\nWhen: Sunday\, November 23\, 2024 -- The Swedish Christmas Fair
  is open from 11 AM - 4 PM. The pick-up time for the webshop orders is 1 
 PM - 4 PM.\nSchedule:\n11:00: The Swedish Christmas Fair opens!\n\n11:50: 
 Singalong\n\n12:00: Lucia procession\n\n12:45: Swedish Folkdancers &amp\; 
 Singers performance\n\n13:50: Singalong\n\n14:00: Lucia procession\n\n14:4
 5: Swedish Folkdancers &amp\; Singers performance\n\n15:45: Traditional so
 ng &amp\; dance around the Christmas tree\n\n16:00: The fair closes for 20
 25
ATTACH;FMTTYPE=image/jpeg:https://toronto.swea.org/wp-content/uploads/site
 s/13/2025/07/2025_2.png
END:VEVENT
BEGIN:VEVENT
UID:13-9618@toronto.swea.org
DTSTART;TZID=America/Toronto:20251202T130000
DTEND;TZID=America/Toronto:20251202T150000
DTSTAMP:20251201T161427Z
URL:https://toronto.swea.org/events/swea-central-ett-litet-kulturskutt/
SUMMARY:SWEA Central: Ett litet kulturskutt
DESCRIPTION:Vi träffas på lunch någonstans i Bloor/Yonge området för a
 tt kl 14.45 gå till Toronto Reference Library för att se Retail Retrospe
 ctive. Det är en guidad visning.\n\nAnmälan till Cia senast 29 novebmer:
  smaklokarna@gmail.com
END:VEVENT
BEGIN:VEVENT
UID:13-9431@toronto.swea.org
DTSTART;TZID=America/Toronto:20251207T113000
DTEND;TZID=America/Toronto:20251207T130000
DTSTAMP:20251028T190000Z
URL:https://toronto.swea.org/events/fleurs-de-ville-noel/
SUMMARY:Fleurs de Ville Noël
DESCRIPTION:Vi tänkte träffas och gå den självguidade turen genom Bloor
  Yorkville neighbourhood för att se juliga och kreative blomsterarrangema
 ng. Utställningen är både inomhus och utomhus.\n\nAnmäl dig till toron
 to.program@swea.org så vi vet att du kommer!
END:VEVENT
BEGIN:VEVENT
UID:13-9619@toronto.swea.org
DTSTART;TZID=America/Toronto:20251211T183000
DTEND;TZID=America/Toronto:20251211T220000
DTSTAMP:20251201T161648Z
URL:https://toronto.swea.org/events/swea-centrals-julfest-knytkalas-och-by
 ob/
SUMMARY:SWEA Centrals julfest: Knytkalas och BYOB
DESCRIPTION:Antalet platser är begränsat till 10 personer. Anmälan sker 
 till Git\, som skickar en Evite med lista där deltagarna kan skriva upp v
 ilken mat de tar med.\n\nHoppas vi ses!
END:VEVENT
BEGIN:VEVENT
UID:13-9621@toronto.swea.org
DTSTART;TZID=America/Toronto:20251212T180000
DTEND;TZID=America/Toronto:20251212T200000
DTSTAMP:20251201T162630Z
URL:https://toronto.swea.org/events/swea-ottawa-lucia/
SUMMARY:SWEA Ottawa: Lucia
DESCRIPTION:SWEA\, the Swedish Church\, and the Swedish Club of Ottawa are 
 inviting you to celebrate a traditional Swedish Lucia!\n\nPlease RSVP by c
 laiming a "virtual ticket" on EventBrite before December 5: https://www.ev
 entbrite.ca/e/swedish-lucia-tickets-1969984493651\n\nActual tickets will b
 e available at the door. $10 is suggested\, but all are welcome to pay wha
 t you can.
ATTACH;FMTTYPE=image/jpeg:https://toronto.swea.org/wp-content/uploads/site
 s/13/2025/12/Ottawa-Lucia.png
END:VEVENT
BEGIN:VEVENT
UID:13-9620@toronto.swea.org
DTSTART;TZID=America/Toronto:20251213T150000
DTEND;TZID=America/Toronto:20251213T170000
DTSTAMP:20251201T162030Z
URL:https://toronto.swea.org/events/luciatvagning/
SUMMARY:Luciatvagning
DESCRIPTION:Äntligen kan vi börja varva ner och få lite vila\, vilket vi
  är väl värda efter en lyckad julmarknad och hektisk höst!\n\nLets go 
 på spa tillsammans! Detaljerna kan vi bestämma tillsammans. Vi har två 
 förslag. Pris för eventuella behandlingar tillkommer och måste bokas i 
 förväg.\n\nHör av er till toronto.program@swea.org om ni är sugna på 
 att hänga med\, så bestämmer vi tillsammans vart vi vill gå.
END:VEVENT
BEGIN:VEVENT
UID:13-9788@toronto.swea.org
DTSTART;TZID=America/Toronto:20260120T170000
DTEND;TZID=America/Toronto:20260120T200000
DTSTAMP:20260105T225219Z
URL:https://toronto.swea.org/events/lingonbarries-artsoppa-varm-punsch/
SUMMARY:Lingonbarries: Ärtsoppa &amp\; varm punsch
DESCRIPTION:Lingonbarries träffas på ärtsoppa och varm punsch den 20 jan
 uari. Hör av dig till toronto.barrie@swea.org om du är intresserad. Max 
 10 personer\, först till kvarn!\n\nExakt tid och plats meddelas efter anm
 älan.
END:VEVENT
BEGIN:VEVENT
UID:13-9789@toronto.swea.org
DTSTART;TZID=America/Toronto:20260130T183000
DTEND;TZID=America/Toronto:20260130T220000
DTSTAMP:20260105T225634Z
URL:https://toronto.swea.org/events/aw-i-downtown-toronto/
SUMMARY:AW i downtown Toronto
DESCRIPTION:Vi startar året med en AW ett stenkast från CN tornet. Anmäl
 an görs senast 28 januari till toronto.program@swea.org.\n\nHoppas vi ses
 !
END:VEVENT
BEGIN:VEVENT
UID:13-10041@toronto.swea.org
DTSTART;TZID=America/Toronto:20260203T190000
DTEND;TZID=America/Toronto:20260203T190000
DTSTAMP:20260202T151549Z
URL:https://toronto.swea.org/events/middag-med-smaklokarna/
SUMMARY:Middag med Smaklökarna
DESCRIPTION:Tisdag 3 februari kl. 19.00
END:VEVENT
BEGIN:VEVENT
UID:13-10037@toronto.swea.org
DTSTART;TZID=America/Toronto:20260213T000000
DTEND;TZID=America/Toronto:20260215T000000
DTSTAMP:20260202T144818Z
URL:https://toronto.swea.org/events/galentines-bastu/
SUMMARY:Galentine's Bastu
DESCRIPTION:Valentine's-helgen (13/14/15 februari). Följ med och bada bast
 u i Toronto. \n\nExakt tid och plats kommer vi överens om tillsammans n
 är vi vet hur många som vill komma och vad som finns tillgängligt. Kost
 naden är $47 för 75 minuter.\n\nAnmäl dig till toronto.program@swea.org
END:VEVENT
BEGIN:VEVENT
UID:13-10039@toronto.swea.org
DTSTART;TZID=America/Toronto:20260222T130000
DTEND;TZID=America/Toronto:20260222T130000
DTSTAMP:20260202T145943Z
URL:https://toronto.swea.org/events/bytesdag/
SUMMARY:Bytesdag
DESCRIPTION:Söndag 22 februari. Bytesdag i Ottawa kl. 13.00. Tag med era s
 venska saker som ni tröttnat på\, så byter vi med varandra. Anmälan sk
 er till Jonna. 
END:VEVENT
BEGIN:VEVENT
UID:13-10038@toronto.swea.org
DTSTART;TZID=America/Toronto:20260228T140000
DTEND;TZID=America/Toronto:20260228T140000
DTSTAMP:20260202T151404Z
URL:https://toronto.swea.org/events/skate-by-the-lake/
SUMMARY:Skate by the Lake
DESCRIPTION:Lördag 28 februari: Skate by the lake i Toronto kl 14:00.\n\nA
 nmäl dig senast 25 februari till toronto.program@swea.org\n\n&nbsp\;\n\n&
 nbsp\;\n\n&nbsp\;
END:VEVENT
BEGIN:VEVENT
UID:13-10263@toronto.swea.org
DTSTART;TZID=America/Toronto:20260314T170000
DTEND;TZID=America/Toronto:20260314T190000
DTSTAMP:20260303T231550Z
URL:https://toronto.swea.org/events/yxkastning/
SUMMARY:Yxkastning
DESCRIPTION:Fira internationella kvinnodagen i efterskott och kanalisera di
 n inre Valkyria!\nAnmäl dig senast 8 mars: toronto.program@swea.org
CATEGORIES:SWEA event
END:VEVENT
BEGIN:VTIMEZONE
TZID:America/Toronto
X-LIC-LOCATION:America/Toronto
BEGIN:STANDARD
DTSTART:20241103T010000
TZOFFSETFROM:-0400
TZOFFSETTO:-0500
TZNAME:EST
END:STANDARD
BEGIN:DAYLIGHT
DTSTART:20250309T030000
TZOFFSETFROM:-0500
TZOFFSETTO:-0400
TZNAME:EDT
END:DAYLIGHT
BEGIN:STANDARD
DTSTART:20251102T010000
TZOFFSETFROM:-0400
TZOFFSETTO:-0500
TZNAME:EST
END:STANDARD
BEGIN:DAYLIGHT
DTSTART:20260308T030000
TZOFFSETFROM:-0500
TZOFFSETTO:-0400
TZNAME:EDT
END:DAYLIGHT
END:VTIMEZONE
END:VCALENDAR