BEGIN:VCALENDAR
VERSION:2.0
PRODID:-//wp-events-plugin.com//6.5//EN
TZID:America/Toronto
X-WR-TIMEZONE:America/Toronto
BEGIN:VEVENT
UID:13-8564@toronto.swea.org
DTSTART;TZID=America/Toronto:20250509T180000
DTEND;TZID=America/Toronto:20250509T210000
DTSTAMP:20250505T195739Z
URL:https://toronto.swea.org/events/swea-ottawa-knytkalas/
SUMMARY:SWEA Ottawa: Knytkalas
DESCRIPTION:När: TBC – preliminärt 9 eller 10 maj\n\nVar: Hemma hos Jon
 na\n\nVåren är här – och det vill vi såklart fira tillsammans! Jonna
  bjuder in till ett härligt knytkalas där vi samlas för god mat\, skrat
 t och vårkänslor.\n\nHör gärna av dig till Mia på: toronto.ottawa@swe
 a.org\n\nVarma hälsningar\, Mia och Jonna
END:VEVENT
BEGIN:VTIMEZONE
TZID:America/Toronto
X-LIC-LOCATION:America/Toronto
BEGIN:DAYLIGHT
DTSTART:20250309T030000
TZOFFSETFROM:-0500
TZOFFSETTO:-0400
TZNAME:EDT
END:DAYLIGHT
END:VTIMEZONE
END:VCALENDAR